BEGIN:VCALENDAR
VERSION:2.0
PRODID:-//wp-events-plugin.com//7.2.3.1//EN
TZID:Europe/Zurich
X-WR-TIMEZONE:Europe/Zurich
BEGIN:VEVENT
UID:368@test.psegg.ch
DTSTART;TZID=Europe/Zurich:20261021T170000
DTEND;TZID=Europe/Zurich:20261021T190000
DTSTAMP:20260204T134212Z
URL:https://test.psegg.ch/events/endschiessen-4/
SUMMARY:Endschiessen
DESCRIPTION:Anlässlich dem Endschiessen wird jeweils ein spezielles Progra
 mm geschossen. Der Abend verbrigen wir anschliessend mit einem gemütliche
 n Beisammensein.
CATEGORIES:Wettkampf
LOCATION:Schützenhaus Vollikon\, Schützenhaus Feldschützenverein Egg-Ess
 lingen\, 8132 Egg\, Schweiz
GEO:47.285987;8.695234
X-APPLE-STRUCTURED-LOCATION;VALUE=URI;X-ADDRESS=Schützenhaus Feldschützen
 verein Egg-Esslingen\, 8132 Egg\, Schweiz;X-APPLE-RADIUS=100;X-TITLE=Schü
 tzenhaus Vollikon:geo:47.285987,8.695234
END:VEVENT
BEGIN:VTIMEZONE
TZID:Europe/Zurich
X-LIC-LOCATION:Europe/Zurich
BEGIN:DAYLIGHT
DTSTART:20260329T030000
TZOFFSETFROM:+0100
TZOFFSETTO:+0200
TZNAME:CEST
END:DAYLIGHT
END:VTIMEZONE
END:VCALENDAR